Workbook

Sheet Reported EBITDA
B4: Country | C4: EBITDA from continued operations (in millions of US$)
C5: September 2026 | D5: September 2025 | E5: % | F5: Q3 2026 | G5: Q3 2025 | H5: %
B7: Argentina | C7: 159.183 | D7: 170.852 | E7: -0.068298879 | F7: 48.186 | G7: 2.278 | H7: n.a.
B8: Brazil | C8: 1738.385 | D8: 1554.632 | E8: 0.1181971 | F8: 550.965 | G8: 542.708 | H8: 0.015214443
B9: Colombia | C9: 1785.209 | D9: 1226.31 | E9: 0.4557567 | F9: 772.827 | G9: 438.515 | H9: 0.76237301
B10: EGP Central America | C10: 143.022 | D10: 154.435 | E10: -0.073901641 | F10: 37.99 | G10: 54.468 | H10: -0.30252625
B11: Enel Américas (*) | C11: 3845.358 | D11: 3105.852 | E11: 0.23810085 | F11: 1417.429 | G11: 1029.24 | H11: 0.37716082
B12: (*) Includes Holding and Adjustments

Sheet Physical Data
B3: Generation of continuing operations
C5: Accumulated figures | F5: Quarterly figures
B6: Operational figures | C6: September 2026 | D6: September 2025 | E6: % | F6: ='Reported EBITDA'!$F$5 -> Q3 2026 | G6: ='Reported EBITDA'!$G$5 -> Q3 2025 | H6: %
B7: Total Sales (TWh) | C7: 45.477768 | D7: 51.682687 | E7: -0.12005798 | F7: 15.270115 | G7: 17.425062 | H7: -0.12366943
B8: Total Generation (TWh) | C8: 31.099916 | D8: 32.544203 | E8: -0.04437924 | F8: 11.419673 | G8: 11.493885 | H8: -0.0064566708
B12: Distribution of continuing operations
C14: Accumulated figures | F14: Quarterly figures
B15: Operational figures | C15: September 2026 | D15: September 2025 | E15: % | F15: ='Reported EBITDA'!$F$5 -> Q3 2026 | G15: ='Reported EBITDA'!$G$5 -> Q3 2025 | H15: %
B16: Total Sales (TWh) | C16: 78.591094 | D16: 77.500243 | E16: 0.014075448 | F16: 26.059856 | G16: 25.360288 | H16: 0.027585151
B17: Grid customers (mn) | C17: 23.246737 | D17: 22.897952 | E17: 0.015232148 | F17: 23.246737 | G17: 22.897952 | H17: 0.015232148

Sheet Generation Business
B3: Generation Segment by geographical area of continuing operations | C3: Markets in which operates | D3: Energy Sales (TWh) (*) | K3: Net production (TWh) | R3: Market Share
D4: Accumulated figures | G4: Quarterly figures | K4: Accumulated figures | N4: Quarterly figures
D5: September 2026 | E5: September 2025 | F5: % | G5: ='Reported EBITDA'!$F$5 -> Q3 2026 | H5: ='Reported EBITDA'!$G$5 -> Q3 2025 | I5: % | K5: September 2026 | L5: September 2025 | M5: % | N5: ='Reported EBITDA'!$F$5 -> Q3 2026 | O5: ='Reported EBITDA'!$G$5 -> Q3 2025 | P5: % | R5: September 2026 | S5: September 2025
B7: Generation Segment - Argentina | C7: SIN Argentina | D7: 0 | E7: 1.89096 | F7: -1 | G7: 0 | H7: 0.54571 | I7: -1 | K7: 0 | L7: 1.8895 | M7: -1 | N7: 0 | O7: 0.54513 | P7: -1 | R7: 0 | S7: 0.016558029
B8: Generation Segment - Brazil (**) | C8: SICN Brasil | D8: 25.313399 | E8: 30.166 | F8: -0.16086324 | G8: 7.9019471 | H8: 9.9720187 | I8: -0.20758802 | K8: 15.170478 | L8: 15.792712 | M8: -0.03940005 | N8: 5.2952634 | O8: 5.6225547 | P8: -0.058210424 | R8: 0.058581491 | S8: 0.083180783
B9: Generation Segment - Colombia | C9: SIN Colombia | D9: 17.42814 | E9: 16.71855 | F9: 0.042443274 | G9: 6.44044 | H9: 5.89148 | I9: 0.093178624 | K9: 13.724359 | L9: 12.68794 | M9: 0.081685347 | N9: 5.4435074 | O9: 4.5347 | P9: 0.2004118 | R9: 0.26206946 | S9: 0.26569513
B10: Generation Segment - Central America | C10: (***) | D10: 2.4409388 | E10: 2.599737 | F10: -0.061082388 | G10: 0.80920789 | H10: 0.91651375 | I10: -0.11708047 | K10: 1.9098291 | L10: 1.9662113 | M10: -0.028675528 | N10: 0.54591229 | O10: 0.71613062 | P10: -0.23769174 | R10: 0.078359833 | S10: 0.056438106
B11: Enel Generación Piura | C11: (****) | D11: 0.29529 | E11: 0.30744 | F11: -0.039519906 | G11: 0.11852 | H11: 0.09934 | I11: 0.19307429 | K11: 0.29525 | L11: 0.20784 | M11: 0.4205639 | N11: 0.13499 | O11: 0.07537 | P11: 0.79103091 | R11: 0.0059180812 | S11: 0.0066742641
B13: Total - Continuing operations | D13: 45.477768 | E13: 51.682687 | F13: -0.12005798 | G13: 15.270115 | H13: 17.425062 | I13: -0.12366943 | K13: 31.099916 | L13: 32.544203 | M13: -0.04437924 | N13: 11.419673 | O13: 11.493885 | P13: -0.0064566708
B15: (*) The sales made by each country’s generation segments to third parties are incorporated, all intra-segment energy purchases and energy sales between related companies have been eliminated.
B16: (**) The energy sold by Enel Trading S.A. is included within the energy sales volumes in Brazil, which despite not being a generator complies with the function of trading the purchase and sale of electricity in Brazil.
B17: (***) Companies from Costa Rica, Guatemala, and Panama participate in their local markets SEN, SEN and SIN respectively, and may eventually participate in the MER (Regional Electricity Market), which is a global market that covers the 9 countries in Central America.
B18: (****) Enel Generación Piura participates in its local SICN market in Peru. It should be noted that, in accordance with the guidelines established in IFRS 8 Operating Segments, it does not represent an operating segment for which Enel Américas is required to disclose separate information. See notes 5 and 34 to Enel Américas’ Consolidated Financial Statements as of September 30, 2026.

Sheet Distribution Business
B3: Distribution Segment by geographical area of continuing operations | C3: Energy Sales (TWh) (*) | J3: Energy losses (%) | M3: Grid customers (th)
C4: Accumulated figures | F4: Quarterly figures
C5: September 2026 | D5: September 2025 | E5: % | F5: ='Reported EBITDA'!$F$5 -> Q3 2026 | G5: ='Reported EBITDA'!$G$5 -> Q3 2025 | H5: % | J5: September 2026 | K5: September 2025 | M5: September 2026 | N5: September 2025 | O5: %
B7: Distribution Segment - Argentina | C7: 13.540456 | D7: 13.458521 | E7: 0.006087967 | F7: 4.6251539 | G7: 4.6839165 | H7: -0.01254562 | J7: 0.194069 | K7: 0.1747 | M7: 2751.987 | N7: 2755.593 | O7: 0.03277517
B8: Distribution Segment - Brazil | C8: 53.142218 | D8: 52.511217 | E8: 0.012016506 | F8: 17.357984 | G8: 16.761153 | H8: 0.035608027 | J8: 0.14061051 | K8: 0.13845214 | M8: 16365.397 | N8: 16111.898 | O8: 0.015733652
B9: Distribution Segment - Colombia | C9: 11.90842 | D9: 11.530506 | E9: 0.03277517 | F9: 4.0767174 | G9: 3.915219 | H9: 0.041248892 | J9: 0.0762 | K9: 0.075340862 | M9: 4129.353 | N9: 4030.461 | O9: 0.024536151
B11: Total - Continuing operations | C11: 78.591094 | D11: 77.500243 | E11: 0.014075448 | F11: 26.059856 | G11: 25.360288 | H11: 0.027585151 | J11: 0.14006114 | K11: 0.13535715 | M11: 23246.737 | N11: 22897.952 | O11: 0.015232148
B12: (*) Includes sales to end customers and tolls.

Sheet Energy sales revenues
B2: Energy Sales Revenues (in millions of US$) | C2: Accumulated figures
C3: Argentina | E3: Brazil | G3: Colombia | I3: Central America | K3: Total Segments | M3: Structure and adjustments | O3: Total
C4: ='Reported EBITDA'!$C$5 -> September 2026 | D4: ='Reported EBITDA'!$D$5 -> September 2025 | E4: ='Reported EBITDA'!$C$5 -> September 2026 | F4: ='Reported EBITDA'!$D$5 -> September 2025 | G4: ='Reported EBITDA'!$C$5 -> September 2026 | H4: ='Reported EBITDA'!$D$5 -> September 2025 | I4: ='Reported EBITDA'!$C$5 -> September 2026 | J4: ='Reported EBITDA'!$D$5 -> September 2025 | K4: ='Reported EBITDA'!$C$5 -> September 2026 | L4: ='Reported EBITDA'!$D$5 -> September 2025 | M4: ='Reported EBITDA'!$C$5 -> September 2026 | N4: ='Reported EBITDA'!$D$5 -> September 2025 | O4: ='Reported EBITDA'!$C$5 -> September 2026 | P4: ='Reported EBITDA'!$D$5 -> September 2025
B6: Generation | C6: 1 | D6: 34 | E6: 1132 | F6: 962 | G6: 1760 | H6: 1189 | I6: 244 | J6: 249 | K6: 3137 | L6: 2434 | M6: -197 | N6: -130 | O6: 2940 | P6: 2304
B7: Regulated customers | C7: 1 | D7: 0 | E7: 344 | F7: 198 | G7: 803 | H7: 542 | I7: 118 | J7: 129 | K7: 1266 | L7: 869 | M7: -65 | N7: 4 | O7: 1201 | P7: 873
B8: Non regulated customers | C8: 0 | D8: 0 | E8: 608 | F8: 676 | G8: 420 | H8: 411 | I8: 48 | J8: 46 | K8: 1076 | L8: 1133 | M8: -9 | N8: -23 | O8: 1067 | P8: 1110
B9: Spot Market | C9: 0 | D9: 34 | E9: 180 | F9: 88 | G9: 537 | H9: 236 | I9: 78 | J9: 74 | K9: 795 | L9: 432 | M9: -123 | N9: -111 | O9: 672 | P9: 321
B10: Other customers | C10: 0 | D10: 0 | E10: 0 | F10: 0 | G10: 0 | H10: 0 | I10: 0 | J10: 0 | K10: 0 | L10: 0 | M10: 0 | N10: 0 | O10: 0 | P10: 0
B12: Distribution | C12: 1343 | D12: 988 | E12: 3992 | F12: 3597 | G12: 990 | H12: 805 | I12: 0 | J12: 0 | K12: 6325 | L12: 5390 | M12: 30 | N12: 26 | O12: 6355 | P12: 5416
B13: Residential | C13: 584 | D13: 416 | E13: 2533 | F13: 2302 | G13: 574 | H13: 465 | I13: 0 | J13: 0 | K13: 3691 | L13: 3183 | M13: 0 | N13: 0 | O13: 3691 | P13: 3183
B14: Commercial | C14: 387 | D14: 276 | E14: 968 | F14: 828 | G14: 241 | H14: 203 | I14: 0 | J14: 0 | K14: 1596 | L14: 1307 | M14: 14 | N14: 11 | O14: 1610 | P14: 1318
B15: Industrial | C15: 261 | D15: 186 | E15: 211 | F15: 196 | G15: 101 | H15: 85 | I15: 0 | J15: 0 | K15: 573 | L15: 467 | M15: 13 | N15: 12 | O15: 586 | P15: 479
B16: Others | C16: 111 | D16: 110 | E16: 280 | F16: 271 | G16: 74 | H16: 52 | I16: 0 | J16: 0 | K16: 465 | L16: 433 | M16: 3 | N16: 3 | O16: 468 | P16: 436
B18: Less: Consolidation adjustments | C18: 0 | D18: 0 | E18: -84 | F18: -34 | G18: -146 | H18: -118 | I18: 0 | J18: 0 | K18: -230 | L18: -152 | M18: 230 | N18: 152 | O18: 0 | P18: 0
B20: Energy Sales Revenues | C20: 1344 | D20: 1022 | E20: 5040 | F20: 4525 | G20: 2604 | H20: 1876 | I20: 244 | J20: 249 | K20: 9232 | L20: 7672 | M20: 63 | N20: 48 | O20: 9295 | P20: 7720
B22: Variation in millions of US$ and %. | C22: 322 | D22: -0.31506849 | E22: 515 | F22: 0.11381215 | G22: 728 | H22: 0.3880597 | I22: -5 | J22: -0.020080321 | K22: 1560 | L22: 0.20333681 | M22: 15 | N22: 0 | O22: 1575 | P22: 0.20401554
B25: Energy Sales Revenues (in millions of US$) | C25: Quarterly figures
C26: Argentina | E26: Brazil | G26: Colombia | I26: Central America | K26: Total Segments | M26: Structure and adjustments | O26: Total
C27: ='Reported EBITDA'!$F$5 -> Q3 2026 | D27: ='Reported EBITDA'!$G$5 -> Q3 2025 | E27: ='Reported EBITDA'!$F$5 -> Q3 2026 | F27: ='Reported EBITDA'!$G$5 -> Q3 2025 | G27: ='Reported EBITDA'!$F$5 -> Q3 2026 | H27: ='Reported EBITDA'!$G$5 -> Q3 2025 | I27: ='Reported EBITDA'!$F$5 -> Q3 2026 | J27: ='Reported EBITDA'!$G$5 -> Q3 2025 | K27: ='Reported EBITDA'!$F$5 -> Q3 2026 | L27: ='Reported EBITDA'!$G$5 -> Q3 2025 | M27: ='Reported EBITDA'!$F$5 -> Q3 2026 | N27: ='Reported EBITDA'!$G$5 -> Q3 2025 | O27: ='Reported EBITDA'!$F$5 -> Q3 2026 | P27: ='Reported EBITDA'!$G$5 -> Q3 2025
B29: Generation | C29: 0 | D29: 9 | E29: 307 | F29: 358 | G29: 802 | H29: 421 | I29: 85 | J29: 84 | K29: 1194 | L29: 872 | M29: -66 | N29: -44 | O29: 1128 | P29: 828
B30: Regulated customers | C30: 0 | D30: 0 | E30: 141 | F30: 66 | G30: 301 | H30: 198 | I30: 48 | J30: 43 | K30: 490 | L30: 307 | M30: -21 | N30: 4 | O30: 469 | P30: 311
B31: Non regulated customers | C31: 0 | D31: 0 | E31: 125 | F31: 285 | G31: 165 | H31: 140 | I31: 11 | J31: 15 | K31: 301 | L31: 440 | M31: -3 | N31: -8 | O31: 298 | P31: 432
B32: Spot Market | C32: 0 | D32: 9 | E32: 41 | F32: 7 | G32: 336 | H32: 83 | I32: 26 | J32: 26 | K32: 403 | L32: 125 | M32: -42 | N32: -40 | O32: 361 | P32: 85
B33: Other customers | C33: 0 | D33: 0 | E33: 0 | F33: 0 | G33: 0 | H33: 0 | I33: 0 | J33: 0 | K33: 0 | L33: 0 | M33: 0 | N33: 0 | O33: 0 | P33: 0
B35: Distribution | C35: 512 | D35: 269 | E35: 1338 | F35: 1350 | G35: 395 | H35: 270 | I35: 0 | J35: 0 | K35: 2245 | L35: 1889 | M35: 11 | N35: 9 | O35: 2256 | P35: 1898
B36: Residential | C36: 228 | D36: 125 | E36: 843 | F36: 893 | G36: 230 | H36: 155 | I36: 0 | J36: 0 | K36: 1301 | L36: 1173 | M36: 0 | N36: 0 | O36: 1301 | P36: 1173
B37: Commercial | C37: 151 | D37: 83 | E37: 311 | F37: 277 | G37: 96 | H37: 67 | I37: 0 | J37: 0 | K37: 558 | L37: 427 | M37: 6 | N37: 4 | O37: 564 | P37: 431
B38: Industrial | C38: 102 | D38: 56 | E38: 68 | F38: 66 | G38: 42 | H38: 28 | I38: 0 | J38: 0 | K38: 212 | L38: 150 | M38: 5 | N38: 5 | O38: 217 | P38: 155
B39: Others | C39: 31 | D39: 5 | E39: 116 | F39: 114 | G39: 27 | H39: 20 | I39: 0 | J39: 0 | K39: 174 | L39: 139 | M39: 0 | N39: 0 | O39: 174 | P39: 139
B41: Less: Consolidation adjustments | C41: 0 | D41: 0 | E41: -29 | F41: -11 | G41: -58 | H41: -37 | I41: 0 | J41: 0 | K41: -87 | L41: -48 | M41: 55 | N41: 35 | O41: -32 | P41: -13
B43: Energy Sales Revenues | C43: 512 | D43: 278 | E43: 1616 | F43: 1697 | G43: 1139 | H43: 654 | I43: 85 | J43: 84 | K43: 3352 | L43: 2713 | M43: 0 | N43: 0 | O43: 3352 | P43: 2713
B45: Variation in millions of US$ and %. | C45: 234 | D45: 0.84172662 | E45: -81 | F45: -0.047731291 | G45: 485 | H45: 0.74159021 | I45: 1 | J45: 0.011904762 | K45: 639 | L45: 0.23553262 | M45: 0 | N45: - | O45: 639 | P45: 0.23553262

Sheet Income Statement
B3: CONSOLIDATED INCOME STATEMENTS CONTINUING OPERATIONS (in millions of US$) | C3: Accumulated figures | H3: Quarterly figures
C4: September 2026 | D4: September 2025 | E4: Change | F4: % | H4: ='Reported EBITDA'!$F$5 -> Q3 2026 | I4: ='Reported EBITDA'!$G$5 -> Q3 2025 | J4: Change | K4: %
B6: Revenues | C6: 12766.32 | D6: 10442.63 | E6: 2323.69 | F6: 0.22251961 | H6: 4613.962 | I6: 3654.4 | J6: 959.562 | K6: 0.26257717
B7: Sales | C7: 11343.714 | D7: 9298.394 | E7: 2045.32 | F7: 0.21996487 | H7: 4141.237 | I7: 3278.443 | J7: 862.794 | K7: 0.26317188
B8: Other operating income | C8: 1422.606 | D8: 1144.236 | E8: 278.37 | F8: 0.24328023 | H8: 472.725 | I8: 375.957 | J8: 96.768 | K8: 0.25739114
B9: Procurements and Services | C9: -7494.027 | D9: -6100.659 | E9: -1393.368 | F9: 0.22839631 | H9: -2723.844 | I9: -2223.898 | J9: -499.946 | K9: 0.22480617
B10: Energy purchases | C10: -5041.612 | D10: -4085.481 | E10: -956.131 | F10: 0.23403144 | H10: -1820.143 | I10: -1482.965 | J10: -337.178 | K10: 0.22736747
B11: Fuel consumption | C11: -60.751 | D11: -28.227 | E11: -32.524 | F11: 1.1522301 | H11: -36.822 | I11: -7.324 | J11: -29.498 | K11: n.a.
B12: Transportation expenses | C12: -1064.396 | D12: -911.494 | E12: -152.902 | F12: 0.16774877 | H12: -369.513 | I12: -309.614 | J12: -59.899 | K12: 0.19346347
B13: Other suppliers and services | C13: -1327.268 | D13: -1075.457 | E13: -251.811 | F13: 0.23414325 | H13: -497.366 | I13: -423.995 | J13: -73.371 | K13: 0.17304685
B14: Contribution Margin | C14: 5272.293 | D14: 4341.971 | E14: 930.322 | F14: 0.2142626 | H14: 1890.118 | I14: 1430.502 | J14: 459.616 | K14: 0.321297
B15: Personnel costs | C15: -461.043 | D15: -415.393 | E15: -45.65 | F15: 0.10989593 | H15: -152.265 | I15: -129.216 | J15: -23.049 | K15: 0.17837574
B16: Other expenses by nature | C16: -965.892 | D16: -820.726 | E16: -145.166 | F16: 0.17687511 | H16: -320.424 | I16: -272.046 | J16: -48.378 | K16: 0.17783022
B17: Gross Operating Income (EBITDA) | C17: 3845.358 | D17: 3105.852 | E17: 739.506 | F17: 0.23810085 | H17: 1417.429 | I17: 1029.24 | J17: 388.189 | K17: 0.37716082
B18: Depreciation and amortization | C18: -983.613 | D18: -916.245 | E18: -67.368 | F18: 0.073526186 | H18: -330.864 | I18: -316.146 | J18: -14.718 | K18: 0.04655444
B19: Impairment Losses (Reversals) | C19: -7.537 | D19: 6.02 | E19: -13.557 | F19: -2.2519934 | H19: -6.651 | I19: -0.103 | J19: -6.548 | K19: n.a.
B20: Impairment Losses (Reversals) from IFRS 9 | C20: -143.381 | D20: -244.939 | E20: 101.558 | F20: -0.41462568 | H20: 6.975 | I20: -73.467 | J20: 80.442 | K20: -1.0949406
B21: Operating Income (EBIT) | C21: 2710.827 | D21: 1950.688 | E21: 760.139 | F21: 0.38967739 | H21: 1086.889 | I21: 639.524 | J21: 447.365 | K21: 0.69952809
B22: Net Financial Income | C22: -699.613 | D22: -573.632 | E22: -125.981 | F22: 0.2196199 | H22: -246.682 | I22: -206.647 | J22: -40.035 | K22: 0.19373618
B23: Financial income | C23: 361.999 | D23: 279.699 | E23: 82.3 | F23: 0.29424488 | H23: 114.322 | I23: 89.249 | J23: 25.073 | K23: 0.28093312
B24: Financial expenses | C24: -1211.221 | D24: -962.526 | E24: -248.695 | F24: 0.25837744 | H24: -392.12 | I24: -330.778 | J24: -61.342 | K24: 0.18544764
B25: Results by readjustment units (Hyperinflation - Argentina) | C25: 189.861 | D25: 127.121 | E25: 62.74 | F25: 0.49354552 | H25: 53.162 | I25: 29.021 | J25: 24.141 | K25: 0.8318459
B26: Exchange rate differences | C26: -40.252 | D26: -17.926 | E26: -22.326 | F26: 1.2454535 | H26: -22.046 | I26: 5.861 | J26: -27.907 | K26: n.a.
B27: Other Non Operating Income | C27: 2.244 | D27: -1.226 | E27: 3.47 | F27: -2.8303426 | H27: -0.173 | I27: 0.447 | J27: -0.62 | K27: -1.3870246
B28: Other gains (losses) | C28: 0.281 | D28: 0.922 | E28: -0.641 | F28: -0.69522777 | H28: 0.148 | I28: 0.365 | J28: -0.217 | K28: -0.59452055
B29: Income accounted for using the equity method | C29: 1.963 | D29: -2.148 | E29: 4.111 | F29: -1.9138734 | H29: -0.321 | I29: 0.082 | J29: -0.403 | K29: n.a.
B30: Net Income Before Taxes | C30: 2013.458 | D30: 1375.83 | E30: 637.628 | F30: 0.4634497 | H30: 840.034 | I30: 433.324 | J30: 406.71 | K30: 0.93858175
B31: Income Tax | C31: -689.695 | D31: -445.516 | E31: -244.179 | F31: 0.54808133 | H31: -271.486 | I31: -132.881 | J31: -138.605 | K31: 1.0430761
B32: Net Income from After Taxes | C32: 1323.763 | D32: 930.314 | E32: 393.449 | F32: 0.42292065 | H32: 568.548 | I32: 300.443 | J32: 268.105 | K32: 0.89236561
B33: Net Income from discontinued operations | C33: 0 | D33: 0 | E33: 0 | F33: 0 | H33: 0 | I33: 0 | J33: 0 | K33: 0
B34: Net Income | C34: 1323.763 | D34: 930.314 | E34: 393.449 | F34: 0.42292065 | H34: 568.548 | I34: 300.443 | J34: 268.405 | K34: 0.89236561
B35: Net Income attributable to owners of Enel Américas | C35: 902.077 | D35: 641.421 | E35: 260.656 | F35: 0.40637273 | H35: 390.086 | I35: 209.26 | J35: 181.126 | K35: 0.86412119
B36: Net income attributable to non-controlling interest | C36: 421.686 | D36: 288.893 | E36: 132.793 | F36: 0.45966154 | H36: 178.462 | I36: 91.183 | J36: 87.279 | K36: 0.957185
B38: Earning per share US$ (**) - Continuing operations | C38: 0.0087927161 | D38: 0.0059789491 | E38: 0.002813767 | F38: 0.47061229 | H38: 0.003821384 | I38: 0.0019505986 | J38: 0.0018707854 | K38: 0.95908272
B39: Earning per share US$ (**) - Discontinued operations | C39: 0 | D39: 0 | E39: 0 | F39: n.a. | H39: 0 | I39: 0 | J39: 0 | K39: n.a.
B40: Earning per share US$ (**) | C40: 0.0087927161 | D40: 0.0059789491 | E40: 0.002813767 | F40: 0.47061229 | H40: 0.003821384 | I40: 0.0019505986 | J40: 0.0018707854 | K40: 0.95908272
B42: (*) As of September 30, 2026 and 2025, the average number of ordinary shares outstanding amounted to 102,593,668,822 and 107,279,889,530, respectively.
B50: EBITDA (*)

Sheet EBITDA by business CO
B3: EBITDA BY BUSINESS SEGMENT / COUNTRY CONTINUING OPERATIONS (in millions of US$) | C3: Accumulated figures | H3: Quarterly figures
C4: September 2026 | D4: September 2025 | E4: Change | F4: % | H4: ='Reported EBITDA'!$F$5 -> Q3 2026 | I4: ='Reported EBITDA'!$G$5 -> Q3 2025 | J4: Change | K4: %
B6: Generation and Transmission:
B7: Argentina | C7: 3.53 | D7: 36.707 | E7: -33.177 | F7: -0.90383306 | H7: 0.948 | I7: 9.316 | J7: -8.368 | K7: -0.89823959
B8: Brazil | C8: 1164.083 | D8: 965.764 | E8: 198.319 | F8: 0.20534934 | H8: 321.655 | I8: 358.144 | J8: -36.489 | K8: -0.1018836
B9: Colombia | C9: 1786.975 | D9: 1222.583 | E9: 564.392 | F9: 0.46163901 | H9: 808.719 | I9: 428.608 | J9: 380.111 | K9: 0.88684999
B10: Central America | C10: 244.153 | D10: 253.054 | E10: -8.901 | F10: -0.035174311 | H10: 85.07 | I10: 88.46 | J10: -3.39 | K10: -0.038322406
B11: Revenues Generation and Transmission Segment | C11: 3198.741 | D11: 2478.108 | E11: 720.633 | F11: 0.29079967 | H11: 1216.392 | I11: 884.528 | J11: 331.864 | K11: 0.37518767
B13: Distribution:
B14: Argentina | C14: 1403.94 | D14: 1133.674 | E14: 270.266 | F14: 0.23839834 | H14: 534.99 | I14: 275.084 | J14: 259.906 | K14: 0.94482413
B15: Brazil | C15: 6309.836 | D15: 5314.861 | E15: 994.975 | F15: 0.18720621 | H15: 2140.314 | I15: 1978.373 | J15: 161.941 | K15: 0.081855646
B16: Colombia | C16: 2040.607 | D16: 1628.796 | E16: 411.811 | F16: 0.25283154 | H16: 781.349 | I16: 558.228 | J16: 223.121 | K16: 0.39969511
B17: Revenues Distribution Segment | C17: 9754.383 | D17: 8077.331 | E17: 1677.052 | F17: 0.20762452 | H17: 3456.653 | I17: 2811.685 | J17: 644.968 | K17: 0.22938843
B19: Consolidation adjustments and other activities | C19: -186.804 | D19: -112.809 | E19: -73.995 | F19: -0.65593171 | H19: -59.083 | I19: -41.813 | J19: -17.27 | K19: 0.41302944
B21: Total consolidated Revenues Enel Américas | C21: 12766.32 | D21: 10442.63 | E21: 2323.69 | F21: 0.22251961 | H21: 4613.962 | I21: 3654.4 | J21: 959.562 | K21: 0.26257717
B23: Generation and Transmission:
B24: Argentina | C24: -0.243 | D24: -3.133 | E24: 2.89 | F24: 0.92243856 | H24: 0.003 | I24: -0.534 | J24: 0.537 | K24: -1.005618
B25: Brazil | C25: -633.129 | D25: -450.313 | E25: -182.816 | F25: -0.4059754 | H25: -145.181 | I25: -168.085 | J25: 22.904 | K25: -0.13626439
B26: Colombia | C26: -604.432 | D26: -506.722 | E26: -97.71 | F26: -0.19282763 | H26: -244.747 | I26: -172.799 | J26: -71.948 | K26: 0.41636815
B27: Central America | C27: -75.534 | D27: -72.654 | E27: -2.88 | F27: -0.039639937 | H27: -38.989 | I27: -23.647 | J27: -15.342 | K27: 0.64879266
B28: Procurement and Services Generation and Transmission Segment | C28: -1313.338 | D28: -1032.822 | E28: -280.516 | F28: -0.2716015 | H28: -428.914 | I28: -365.065 | J28: -63.849 | K28: 0.17489762
B30: Distribution:
B31: Argentina | C31: -963.237 | D31: -731.51 | E31: -231.727 | F31: -0.31677899 | H31: -388.714 | I31: -221.864 | J31: -166.85 | K31: 0.75203728
B32: Brazil | C32: -4267.351 | D32: -3607.001 | E32: -660.35 | F32: -0.18307453 | H32: -1506.873 | I32: -1391.568 | J32: -115.305 | K32: 0.082859767
B33: Colombia | C33: -1174.078 | D33: -893.585 | E33: -280.493 | F33: -0.31389627 | H33: -477.798 | I33: -301.647 | J33: -176.151 | K33: 0.58396404
B34: Procurement and Services Distribution Segment | C34: -6404.666 | D34: -5232.096 | E34: -1172.57 | F34: -0.22411095 | H34: -2373.385 | I34: -1915.079 | J34: -458.306 | K34: 0.23931441
B36: Consolidation adjustments and other activities | C36: 223.977 | D36: 164.259 | E36: 59.718 | F36: 0.36355999 | H36: 78.455 | I36: 56.246 | J36: 22.209 | K36: 0.39485475
B38: Total consolidated Procurement and Services Enel Américas | C38: -7494.027 | D38: -6100.659 | E38: -1393.368 | F38: -0.22839631 | H38: -2723.844 | I38: -2223.898 | J38: -499.946 | K38: 0.22480617
B41: EBITDA BY BUSINESS SEGMENT / COUNTRY CONTINUING OPERATIONS (in millions of US$) | C41: Accumulated figures | H41: Quarterly figures
C42: September 2026 | D42: September 2025 | E42: Change | F42: % | H42: ='Reported EBITDA'!$F$5 -> Q3 2026 | I42: ='Reported EBITDA'!$G$5 -> Q3 2025 | J42: Change | K42: %
B44: Generation and Transmission:
B45: Argentina | C45: -1.782 | D45: -0.935 | E45: -0.847 | F45: 0.90588235 | H45: -0.12 | I45: 1.655 | J45: -1.775 | K45: -1.0725076
B46: Brazil | C46: -13.731 | D46: -14.429 | E46: 0.698 | F46: -0.048374801 | H46: -4.698 | I46: -5.443 | J46: 0.745 | K46: -0.13687305
B47: Colombia | C47: -49.107 | D47: -36.381 | E47: -12.726 | F47: 0.34979797 | H47: -16.992 | I47: -12.269 | J47: -4.723 | K47: 0.38495395
B48: Central America | C48: -8.892 | D48: -9.835 | E48: 0.943 | F48: -0.095882054 | H48: -2.709 | I48: -3.607 | J48: 0.898 | K48: -0.24896035
B49: Staff Expenses Generation and Transmission Segment | C49: -73.512 | D49: -61.58 | E49: -11.932 | F49: 0.19376421 | H49: -24.519 | I49: -19.664 | J49: -4.855 | K49: 0.24689788
B51: Distribution:
B52: Argentina | C52: -128.59 | D52: -120.752 | E52: -7.838 | F52: 0.064909898 | H52: -43.67 | I52: -32.427 | J52: -11.243 | K52: 0.34671724
B53: Brazil | C53: -192.897 | D53: -170.752 | E53: -22.145 | F53: 0.12969101 | H53: -60.376 | I53: -59.024 | J53: -1.352 | K53: 0.022905937
B54: Colombia | C54: -33.168 | D54: -28.924 | E54: -4.244 | F54: 0.14672936 | H54: -12.691 | I54: -8.782 | J54: -3.909 | K54: 0.44511501
...

Sheet EBITDA Generation Business 
B2: ARGENTINA | C2: EBITDA (in millions of US$)
C3: Accumulated figures | G3: Quarterly figures
C4: September 2026 | D4: September 2025 | E4: Change | F4: % | G4: ='Reported EBITDA'!$F$5 -> Q3 2026 | H4: ='Reported EBITDA'!$G$5 -> Q3 2025 | I4: Change | J4: %
B6: Operating revenues | C6: 3.53 | D6: 36.707 | E6: -33.177 | F6: -0.90383306 | G6: 0.948 | H6: 9.316 | I6: -8.368 | J6: -0.89823959
B7: Operating costs | C7: -0.243 | D7: -3.133 | E7: 2.89 | F7: -0.92243856 | G7: 0.003 | H7: -0.534 | I7: 0.537 | J7: -1.005618
B8: Staff expenses | C8: -1.782 | D8: -0.935 | E8: -0.847 | F8: 0.90588235 | G8: -0.12 | H8: 1.655 | I8: -1.775 | J8: -1.0725076
B9: Other expenses by nature | C9: -1.506 | D9: -5.446 | E9: 3.94 | F9: -0.72346676 | G9: -0.386 | H9: -1.219 | I9: 0.833 | J9: -0.68334701
B10: Quarter conversion adjustment
B12: EBITDA Generation Segment | C12: -0.001 | D12: 27.193 | E12: -27.194 | F12: -1.0000368 | G12: 0.445 | H12: 9.218 | I12: -8.773 | J12: -0.95172489
B15: BRAZIL | C15: EBITDA (in millions of US$)
C16: Accumulated figures | G16: Quarterly figures
C17: September 2026 | D17: September 2025 | E17: Change | F17: % | G17: ='Reported EBITDA'!$F$5 -> Q3 2026 | H17: ='Reported EBITDA'!$G$5 -> Q3 2025 | I17: Change | J17: %
B19: Operating revenues | C19: 1164.083 | D19: 965.764 | E19: 198.319 | F19: 0.20534934 | G19: 321.655 | H19: 358.144 | I19: -36.489 | J19: -0.1018836
B20: Operating costs | C20: -633.129 | D20: -450.313 | E20: -182.816 | F20: -0.4059754 | G20: -145.181 | H20: -168.085 | I20: 22.904 | J20: 0.13626439
B21: Staff expenses | C21: -13.731 | D21: -14.429 | E21: 0.698 | F21: 0.048374801 | G21: -4.698 | H21: -5.443 | I21: 0.745 | J21: 0.13687305
B22: Other expenses by nature | C22: -96.032 | D22: -79.472 | E22: -16.56 | F22: -0.20837528 | G22: -27.426 | H22: -26.92 | I22: -0.506 | J22: -0.018796434
B24: EBITDA Generation Segment | C24: 421.191 | D24: 421.55 | E24: -0.359 | F24: -0.00085161903 | G24: 144.35 | H24: 157.696 | I24: -13.346 | J24: -0.084631189
B27: COLOMBIA | C27: EBITDA (in millions of US$)
C28: Accumulated figures | G28: Quarterly figures
C29: September 2026 | D29: September 2025 | E29: Change | F29: % | G29: ='Reported EBITDA'!$F$5 -> Q3 2026 | H29: ='Reported EBITDA'!$G$5 -> Q3 2025 | I29: Change | J29: %
B31: Operating revenues | C31: 1786.975 | D31: 1222.583 | E31: 564.392 | F31: 0.46163901 | G31: 808.719 | H31: 428.608 | I31: 380.111 | J31: 0.88684999
B32: Operating costs | C32: -604.432 | D32: -506.722 | E32: -97.71 | F32: -0.19282763 | G32: -244.747 | H32: -172.799 | I32: -71.948 | J32: -0.41636815
B33: Staff expenses | C33: -49.107 | D33: -36.381 | E33: -12.726 | F33: -0.34979797 | G33: -16.992 | H33: -12.269 | I33: -4.723 | J33: -0.38495395
B34: Other expenses by nature | C34: -54.308 | D34: -40.312 | E34: -13.996 | F34: -0.3471919 | G34: -19.571 | H34: -16.509 | I34: -3.062 | J34: -0.18547459
B36: EBITDA Generation Segment | C36: 1079.128 | D36: 639.168 | E36: 439.96 | F36: 0.68833233 | G36: 527.409 | H36: 227.031 | I36: 300.378 | J36: 1.3230704
B39: CENTRAL AMERICA | C39: EBITDA (in millions of US$)
C40: Accumulated figures | G40: Quarterly figures
C41: September 2026 | D41: September 2025 | E41: Change | F41: % | G41: ='Reported EBITDA'!$F$5 -> Q3 2026 | H41: ='Reported EBITDA'!$G$5 -> Q3 2025 | I41: Change | J41: %
B43: Operating revenues | C43: 244.153 | D43: 253.054 | E43: -8.901 | F43: -0.035174311 | G43: 85.07 | H43: 88.46 | I43: -3.39 | J43: -0.038322406
B44: Operating costs | C44: -75.534 | D44: -72.654 | E44: -2.88 | F44: -0.039639937 | G44: -38.989 | H44: -23.647 | I44: -15.342 | J44: -0.64879266
B45: Staff expenses | C45: -8.892 | D45: -9.835 | E45: 0.943 | F45: 0.095882054 | G45: -2.709 | H45: -3.607 | I45: 0.898 | J45: 0.24896035
B46: Other expenses by nature | C46: -16.705 | D46: -16.13 | E46: -0.575 | F46: -0.035647861 | G46: -5.382 | H46: -6.738 | I46: 1.356 | J46: 0.20124666
B48: EBITDA Generation Segment | C48: 143.022 | D48: 154.435 | E48: -11.413 | F48: -0.073901641 | G48: 37.99 | H48: 54.468 | I48: -16.478 | J48: -0.30252625

Sheet EBITDA Distribution Business
B2: ARGENTINA | C2: EBITDA (in millions of US$) | L2: ARGENTINA
C3: Accumulated figures | G3: Quarterly figures | L3: Subsidiaries | M3: Energy Losses (%) | Q3: Grid customers (in millions)
C4: September 2026 | D4: September 2025 | E4: Change | F4: % | G4: ='Reported EBITDA'!$F$5 -> Q3 2026 | H4: ='Reported EBITDA'!$G$5 -> Q3 2025 | I4: Change | J4: % | M4: September 2026 | N4: September 2025 | O4: Percentage points change | Q4: ='Reported EBITDA'!$F$5 -> Q3 2026 | R4: ='Reported EBITDA'!$G$5 -> Q3 2025 | S4: %
B6: Operating revenues | C6: 1403.94 | D6: 1133.674 | E6: 270.266 | F6: 0.23839834 | G6: 534.99 | H6: 275.084 | I6: 259.906 | J6: 0.94482413 | L6: Edesur | M6: 0.194069 | N6: 0.1747 | O6: 1.9369 | Q6: 2.751987 | R6: 2.755593 | S6: -0.0013086112
B7: Operating costs | C7: -963.237 | D7: -731.51 | E7: -231.727 | F7: 0.31677899 | G7: -388.714 | H7: -221.864 | I7: -166.85 | J7: 0.75203728
B8: Staff expenses | C8: -128.59 | D8: -120.752 | E8: -7.838 | F8: 0.064909898 | G8: -43.67 | H8: -32.427 | I8: -11.243 | J8: 0.34671724 | L8: Total Distribution Segment | M8: 0.194069 | N8: 0.1747 | O8: 1.9369 | Q8: 2.751987 | R8: 2.755593 | S8: -0.0013086112
B9: Other expenses by nature | C9: -151.251 | D9: -136.257 | E9: -14.994 | F9: 0.11004205 | G9: -54.632 | H9: -27.197 | I9: -27.435 | J9: 1.008751
B10: Quarter conversion adjustment
B12: EBITDA Distribution Segment | C12: 160.862 | D12: 145.155 | E12: 15.707 | F12: 0.10820847 | G12: 47.974 | H12: -6.404 | I12: 54.378 | J12: n.a.
B16: BRAZIL | C16: EBITDA (in millions of US$) | L16: BRAZIL
C17: Accumulated figures | G17: Quarterly figures | L17: Subsidiaries | M17: Energy Losses (%) | Q17: Grid customers (in millions)
C18: September 2026 | D18: September 2025 | E18: Change | F18: % | G18: ='Reported EBITDA'!$F$5 -> Q3 2026 | H18: ='Reported EBITDA'!$G$5 -> Q3 2025 | I18: Change | J18: % | M18: September 2026 | N18: September 2025 | O18: Percentage points change | Q18: ='Reported EBITDA'!$F$5 -> Q3 2026 | R18: ='Reported EBITDA'!$G$5 -> Q3 2025 | S18: %
B20: Operating revenues | C20: 6309.836 | D20: 5314.861 | E20: 994.975 | F20: 0.18720621 | G20: 2140.314 | H20: 1978.373 | I20: 161.941 | J20: 0.081855646 | L20: Enel Distribución Río | M20: 0.20780825 | N20: 0.20675618 | O20: 0.10520654 | Q20: 3.160162 | R20: 3.147069 | S20: 0.0041603791
B21: Operating costs | C21: -4267.351 | D21: -3607.001 | E21: -660.35 | F21: 0.18307453 | G21: -1506.873 | H21: -1391.568 | I21: -115.305 | J21: 0.082859767 | L21: Enel Distribución Ceará | M21: 0.174707 | N21: 0.17897656 | O21: -0.42695527 | Q21: 4.404627 | R21: 4.317884 | S21: 0.020089238
B22: Staff expenses | C22: -192.897 | D22: -170.752 | E22: -22.145 | F22: 0.12969101 | G22: -60.376 | H22: -59.024 | I22: -1.352 | J22: 0.022905937 | L22: Enel Distribución Sao Paulo | M22: 0.11243482 | N22: 0.1080567 | O22: 0.43781232 | Q22: 8.800608 | R22: 8.646945 | S22: 0.017770785
B23: Other expenses by nature | C23: -465.54 | D23: -358.58 | E23: -106.96 | F23: 0.29828769 | G23: -150.204 | H23: -130.26 | I23: -19.944 | J23: 0.15310917
B25: EBITDA Distribution Segment | C25: 1384.048 | D25: 1178.528 | E25: 205.52 | F25: 0.17438703 | G25: 422.861 | H25: 397.521 | I25: 25.34 | J25: 0.06374506 | L25: Total Distribution Segment | M25: 0.14061051 | N25: 0.13845214 | O25: 0.21583717 | Q25: 16.365397 | R25: 16.111898 | S25: 0.015733652
B28: COLOMBIA | C28: EBITDA (in millions of US$) | L28: COLOMBIA
C29: Accumulated figures | L29: Subsidiaries | M29: Energy Losses (%) | Q29: Grid customers (in millions)
C30: September 2026 | D30: September 2025 | E30: Change | F30: % | G30: ='Reported EBITDA'!$F$5 -> Q3 2026 | H30: ='Reported EBITDA'!$G$5 -> Q3 2025 | I30: Change | J30: % | M30: September 2026 | N30: September 2025 | O30: Percentage points change | Q30: ='Reported EBITDA'!$F$5 -> Q3 2026 | R30: ='Reported EBITDA'!$G$5 -> Q3 2025 | S30: %
B32: Operating revenues | C32: 2040.607 | D32: 1628.796 | E32: 411.811 | F32: 0.25283154 | G32: 781.349 | H32: 558.228 | I32: 223.121 | J32: 0.39969511 | L32: Distribution segment - Colombia | M32: 0.0762 | N32: 0.075340862 | O32: 0.0859138 | Q32: 4.129353 | R32: 4.030461 | S32: 0.024536151
B33: Operating costs | C33: -1174.078 | D33: -893.585 | E33: -280.493 | F33: 0.31389627 | G33: -477.798 | H33: -301.647 | I33: -176.151 | J33: 0.58396404
B34: Staff expenses | C34: -33.168 | D34: -28.924 | E34: -4.244 | F34: 0.14672936 | G34: -12.691 | H34: -8.782 | I34: -3.909 | J34: 0.44511501 | L34: Total Distribution Segment | M34: 0.0762 | N34: 0.075340862 | O34: 0.0859138 | Q34: 4.129353 | R34: 4.030461 | S34: 0.024536151
B35: Other expenses by nature | C35: -127.183 | D35: -121.377 | E35: -5.806 | F35: 0.047834433 | G35: -46.436 | H35: -36.996 | I35: -9.44 | J35: 0.25516272
B37: EBITDA Distribution Segment | C37: 706.178 | D37: 584.91 | E37: 121.268 | F37: 0.20732762 | G37: 244.424 | H37: 210.803 | I37: 33.621 | J37: 0.15949014

Sheet EBITDA and others by country
B3: BUSINESS SEGMENT CONTINUING OPERATIONS (in millions of US$) | C3: Accumulated figures
C4: EBITDA | D4: Depreciation, amortization and impairment | E4: EBIT | F4: EBITDA | G4: Depreciation, amortization and impairment | H4: EBIT
C5: September 2026 | F5: September 2025
B7: Generation and Transmission:
B8: Argentina | C8: -0.001 | D8: -0.095 | E8: -0.096 | F8: 27.193 | G8: -0.491 | H8: 26.702
B9: Brazil | C9: 421.191 | D9: -165.333 | E9: 255.858 | F9: 421.55 | G9: -150.622 | H9: 270.928
B10: Colombia | C10: 1079.128 | D10: -112.621 | E10: 966.507 | F10: 639.168 | G10: -62.819 | H10: 576.349
B11: Central America | C11: 143.022 | D11: -43.017 | E11: 100.005 | F11: 154.435 | G11: -38.227 | H11: 116.208
B12: Total Generation and Transmission | C12: 1643.34 | D12: -321.066 | E12: 1322.274 | F12: 1242.346 | G12: -252.159 | H12: 990.187
B14: Distribution:
B15: Argentina | C15: 160.862 | D15: -203.4 | E15: -42.538 | F15: 145.155 | G15: -160.36 | H15: -15.205
B16: Brazil | C16: 1384.048 | D16: -457.1 | E16: 926.948 | F16: 1178.528 | G16: -597.499 | H16: 581.029
B17: Colombia | C17: 706.178 | D17: -144.872 | E17: 561.306 | F17: 584.91 | G17: -115.734 | H17: 469.176
B18: Total Distribution | C18: 2251.088 | D18: -805.372 | E18: 1445.716 | F18: 1908.593 | G18: -873.593 | H18: 1035
B20: Less: consolidation adjustments and other business activities | C20: -49.07 | D20: -8.093 | E20: -57.163 | F20: -45.087 | G20: -29.412 | H20: -74.499
B22: Total Consolidated Enel Américas | C22: 3845.358 | D22: -1134.531 | E22: 2710.827 | F22: 3105.852 | G22: -1155.164 | H22: 1950.688
B25: BUSINESS SEGMENT CONTINUING OPERATIONS (in millions of US$) | C25: Quarterly figures
C26: EBITDA | D26: Depreciation, amortization and impairment | E26: EBIT | F26: EBITDA | G26: Depreciation, amortization and impairment | H26: EBIT
C27: ='Reported EBITDA'!$F$5 -> Q3 2026 | F27: ='Reported EBITDA'!$G$5 -> Q3 2025
B29: Generation and Transmission:
B30: Argentina | C30: 0.445 | D30: -0.061 | E30: 0.384 | F30: 9.218 | G30: -0.23 | H30: 8.988
B31: Brazil | C31: 144.35 | D31: -53.483 | E31: 90.867 | F31: 157.696 | G31: -48.107 | H31: 109.589
B32: Colombia | C32: 527.409 | D32: -50.093 | E32: 477.316 | F32: 227.031 | G32: -22.789 | H32: 204.242
B33: Central America | C33: 37.99 | D33: -14.216 | E33: 23.774 | F33: 54.468 | G33: -12.976 | H33: 41.492
B34: Total Generation and Transmission | C34: 710.194 | D34: -117.853 | E34: 592.341 | F34: 448.413 | G34: -84.102 | H34: 364.311
B36: Distribution:
B37: Argentina | C37: 47.974 | D37: -72.787 | E37: -24.813 | F37: -6.404 | G37: -46.372 | H37: -52.776
B38: Brazil | C38: 422.861 | D38: -69.369 | E38: 353.492 | F38: 397.521 | G38: -207.127 | H38: 190.394
B39: Colombia | C39: 244.424 | D39: -52.967 | E39: 191.457 | F39: 210.803 | G39: -41.518 | H39: 169.285
B40: Total Distribution | C40: 715.259 | D40: -195.123 | E40: 520.136 | F40: 601.92 | G40: -295.017 | H40: 306.903
B42: Less: consolidation adjustments and other business activities | C42: -8.024 | D42: -17.564 | E42: -25.588 | F42: -21.093 | G42: -10.597 | H42: -31.69
B44: Total Consolidated Enel Américas | C44: 1417.429 | D44: -330.54 | E44: 1086.889 | F44: 1029.24 | G44: -389.716 | H44: 639.524

Sheet Non operating CO
B3: NON OPERATING INCOME (in millions of US$) | C3: Accumulated figures | H3: Quarterly figures
C4: September 2026 | D4: September 2025 | E4: Change | F4: % | H4: ='Reported EBITDA'!$F$5 -> Q3 2026 | I4: ='Reported EBITDA'!$G$5 -> Q3 2025 | J4: Change | K4: %
B6: Financial Income:
B7: Argentina | C7: 17.106 | D7: 15.217 | E7: 1.889 | F7: 0.12413748 | H7: 5.486 | I7: 7.649 | J7: -2.163 | K7: -0.28278206
B8: Brazil | C8: 290.441 | D8: 194.832 | E8: 95.609 | F8: 0.49072534 | H8: 90.637 | I8: 63.461 | J8: 27.176 | K8: 0.42823151
B9: Colombia | C9: 29.842 | D9: 19.98 | E9: 9.862 | F9: 0.49359359 | H9: 11.338 | I9: 6.277 | J9: 5.061 | K9: 0.80627688
B10: Peru | C10: 0 | D10: 0 | E10: 0 | F10: 0 | H10: 0 | I10: 0 | J10: 0 | K10: 0
B11: Central America | C11: 4.331 | D11: 3.357 | E11: 0.974 | F11: 0.29014001 | H11: 1.518 | I11: 1.032 | J11: 0.486 | K11: 0.47093023
B12: Consolidation adjustments and other business activities | C12: 20.279 | D12: 46.313 | E12: -26.034 | F12: -0.56213158 | H12: 5.343 | I12: 10.83 | J12: -5.487 | K12: -0.5066482
B13: Total Financial Income | C13: 361.999 | D13: 279.699 | E13: 82.3 | F13: 0.29424488 | H13: 114.322 | I13: 89.249 | J13: 25.073 | K13: 0.28093312
B15: Financial Expenses:
B16: Argentina | C16: -160.173 | D16: -136.762 | E16: -23.411 | F16: 0.17118059 | H16: -54.952 | I16: -54.161 | J16: -0.791 | K16: 0.014604605
B17: Brazil | C17: -737.169 | D17: -534.829 | E17: -202.34 | F17: 0.37832653 | H17: -218.299 | I17: -187.041 | J17: -31.258 | K17: 0.16711844
B18: Colombia | C18: -281.739 | D18: -253.871 | E18: -27.868 | F18: 0.10977229 | H18: -108.316 | I18: -77.424 | J18: -30.892 | K18: 0.39899773
B19: Peru | C19: 0 | D19: 0 | E19: 0 | F19: 0 | H19: 0 | I19: 0 | J19: 0 | K19: 0
B20: Central America | C20: -6.138 | D20: -8.856 | E20: 2.718 | F20: -0.30691057 | H20: -1.939 | I20: -2.68 | J20: 0.741 | K20: -0.27649254
B21: Consolidation adjustments and other activities | C21: -26.002 | D21: -28.208 | E21: 2.206 | F21: -0.078204765 | H21: -8.614 | I21: -9.472 | J21: 0.858 | K21: -0.09058277
B22: Total Financial Expenses | C22: -1211.221 | D22: -962.526 | E22: -248.695 | F22: 0.25837744 | H22: -392.12 | I22: -330.778 | J22: -61.342 | K22: 0.18544764
B24: Foreign currency exchange differences, net:
B25: Argentina | C25: 2.603 | D25: 4.023 | E25: -1.42 | F25: -0.35297042 | H25: 0.562 | I25: 4.45 | J25: -3.888 | K25: -0.87370787
B26: Brazil | C26: -17.385 | D26: -12.819 | E26: -4.566 | F26: 0.35619003 | H26: -13.369 | I26: 1.87 | J26: -15.239 | K26: n.a.
B27: Colombia | C27: -2.655 | D27: 5.529 | E27: -8.184 | F27: -1.4801953 | H27: -1.749 | I27: 0.211 | J27: -1.96 | K27: n.a.
B28: Peru | C28: 0 | D28: 0 | E28: 0 | F28: 0 | H28: 0 | I28: 0 | J28: 0 | K28: 0
B29: Central America | C29: 3.172 | D29: -0.615 | E29: 3.787 | F29: n.a. | H29: 0.045 | I29: 0.359 | J29: -0.314 | K29: -0.87465181
B30: Consolidation adjustments and other business activities | C30: -25.987 | D30: -14.044 | E30: -11.943 | F30: 0.85039875 | H30: -7.535 | I30: -1.029 | J30: -6.506 | K30: n.a.
B31: Total Foreign currency exchange differences, net | C31: -40.252 | D31: -17.926 | E31: -22.326 | F31: 1.2454535 | H31: -22.046 | I31: 5.861 | J31: -27.907 | K31: n.a.
B33: Total results by adjustment units (hyperinflation - Argentina) | C33: 189.861 | D33: 127.121 | E33: 62.74 | F33: 0.49354552 | H33: 53.162 | I33: 29.021 | J33: 24.141 | K33: 0.8318459
B35: Net Financial Income Enel Américas | C35: -699.613 | D35: -573.632 | E35: -125.981 | F35: 0.2196199 | H35: -246.682 | I35: -206.647 | J35: -40.035 | K35: 0.19373618
B37: Other gains (losses):
B38: Argentina | C38: 0.136 | D38: 0.146 | E38: -0.01 | F38: 0 | H38: 0.014 | I38: 0.146 | J38: -0.132 | K38: 0
B39: Brazil | C39: 0.002 | D39: 0 | E39: 0.002 | F39: #DIV/0! | H39: 0.002 | I39: -0.018 | J39: 0.02 | K39: -1.1111111
B40: Colombia | C40: 0.003 | D40: 0.775 | E40: -0.772 | F40: -0.99612903 | H40: 0.002 | I40: 0.257 | J40: -0.255 | K40: -0.9922179
B41: Central America | C41: 0.14 | D41: 0.001 | E41: 0.139 | F41: n.a. | H41: 0.129 | I41: 0 | J41: 0.129 | K41: n.a.
B42: Consolidation adjustments and other business activities | C42: 0 | D42: 0 | E42: 0 | F42: #DIV/0! | H42: 0.001 | I42: -0.02 | J42: 0.021 | K42: -1.05
B43: Total Other gains (losses) | C43: 0.281 | D43: 0.922 | E43: -0.641 | F43: -0.69522777 | H43: 0.148 | I43: 0.365 | J43: -0.217 | K43: -0.59452055
B45: Results in companies accounted for using the equity method:
B46: Argentina | C46: 2.498 | D46: -1.051 | E46: 3.549 | F46: -3.376784 | H46: -0.043 | I46: 0.004 | J46: -0.047 | K46: n.a.
B47: Brazil | C47: -0.397 | D47: -0.201 | E47: -0.196 | F47: 0.97512438 | H47: -0.368 | I47: 0.004 | J47: -0.372 | K47: n.a.
B48: Colombia | C48: 0.353 | D48: -1.311 | E48: 1.664 | F48: -1.2692601 | H48: 0.048 | I48: 0.016 | J48: 0.032 | K48: 2
B49: Perú | C49: 0 | D49: 0 | E49: 0 | F49: 0 | H49: 0 | I49: 0 | J49: 0 | K49: 0
...

Sheet Balance sheet
B2: Assets | C2: September 2026 | D2: December 2025 | E2: Change | F2: %
C3: (in millions of US$)
B5: Current Assets | C5: 7153 | D5: 6696 | E5: 457 | F5: 0.068249701
B6: Non current Assets | C6: 31330 | D6: 28175 | E6: 3155 | F6: 0.1119787
B8: Total Assets | C8: 38483 | D8: 34871 | E8: 3612 | F8: 0.10358177
B11: Liabilities and Equity | C11: September 2026 | D11: December 2025 | E11: Change | F11: %
C12: (in millions of US$)
B14: Current Liabilities | C14: 8483 | D14: 7738 | E14: 745 | F14: 0.096278108
B15: Non Current Liabilities | C15: 9530 | D15: 8557 | E15: 973 | F15: 0.11370808
B17: Total Equity | C17: 20470 | D17: 18576 | E17: 1894 | F17: 0.10195952
B18: attributable to owners of parent company | C18: 17603 | D18: 16023 | E18: 1580 | F18: 0.098608251
B19: attributable to non-controlling interest | C19: 2867 | D19: 2553 | E19: 314 | F19: 0.12299256
B21: Total Liabilities and Equity | C21: 38483 | D21: 34871 | E21: 3612 | F21: 0.10358177
B24: Cash Flow | C24: September 2026 | D24: September 2025 | E24: Change | F24: %
C25: (in millions of US$)
B27: From Operating Activities | C27: 2154 | D27: 1235 | E27: 919 | F27: 0.74412955
B28: From Investing Activities | C28: -1868 | D28: -1908 | E28: 40 | F28: -0.020964361
B29: From Financing Activities | C29: -1055 | D29: -1323 | E29: 268 | F29: -0.20256992
B31: Total Net Cash Flow | C31: -769 | D31: -1996 | E31: 1227 | F31: -0.61472946

Sheet Ratios OC
B3: Financial Indicator | D3: Unit | E3: September 2026 | F3: December 2025 | G3: September 2025 | H3: Change | I3: %
B5: Liquidity | C5: Current liquidity (1) | D5: Times | E5: 0.84312925 | F5: 0.86542517 | G5: - | H5: -0.022295925 | I5: -0.025762972
C6: Acid ratio (2) | D6: Times | E6: 0.76466847 | F6: 0.79608555 | G6: - | H6: -0.04 | I6: -0.039464458
C7: Working Capital | D7: MMUSD | E7: -1331 | F7: -1041 | G7: - | H7: -290 | I7: 0.27857829
B8: Leverage | C8: Leverage (3) | D8: Times | E8: 0.87992994 | F8: 0.87713936 | G8: - | H8: 0.0027905781 | I8: 0.0031814535
C9: Short Term Debt (4) | D9: % | E9: 0.47092742 | F9: 0.47482876 | G9: - | H9: (0,4) p.p. | I9: -
C10: Long Term Debt (5) | D10: % | E10: 0.52907258 | F10: 0.52517124 | G10: - | H10: 0,4 p.p. | I10: -
C11: Financial Expenses Coverage (6) | D11: Times | E11: 3.6221878 | F11: - | G11: 3.6396803 | H11: -0.017492497 | I11: -0.0048060533
B12: Profitability | C12: Operating Income/Operating Revenues | D12: % | E12: 0.21234208 | F12: - | G12: 0.18680045 | H12: 2,6 p.p. | I12: -
C13: ROE (annualized) (7) | D13: % | E13: 0.072605334 | F13: - | G13: 0.050668665 | H13: 2,2 p.p. | I13: -
C14: ROA (annualized) (8) | D14: % | E14: 0.047418224 | F14: - | G14: 0.031668115 | H14: 1,6 p.p. | I14: -
B16: (1) It corresponds to the ratio between (i) Current Assets and (ii) Current Liabilities.
B17: (2) It corresponds to the ratio between (i) Current Assets net of Stocks and Anticipated Expenses and (ii) Current Liabilities.
B18: (3) It corresponds to the ratio between (i) Total Liabilities and (ii) Total Equity.
B19: (4) It corresponds to the ratio between of (i) Current Liabilities in relation to (ii) Total Liabilities
B20: (5) It corresponds to the ratio between of (i) Non-Current Liabilities in relation to (ii) Total Liabilities.
B21: (6) It corresponds to the ratio between (i) the Gross Operating Income and (ii) Net financial result of Financial Income.
B22: (7) It corresponds to the ratio between (i) the profit for the period attributable to the owners of the parent company for the twelve rolling months as of December 31, 2025, and (ii) the average between the equity attributable to the owners of the parent company at the beginning and end of the period.
B23: (8) It corresponds to the ratio between (i) the profit for the period attributable to the owners of the parent company for the twelve rolling months as of December 31, 2025, and (ii) the average of total assets at the beginning and end of the period.

Sheet Property, plant and equipment
B3: PROPERTY, PLANTS AND EQUIPMENT INFORMATION BY COMPANY
B4: (in millions of US$)
B5: Company | C5: Payments for additions of Property, plant and equipment | G5: Depreciation
C6: September 2026 | D6: September 2025 | E6: % Change | G6: September 2026 | H6: September 2025 | I6: % Change
B8: Enel Colombia Segmento de Generación | C8: 216 | D8: 558 | E8: -0.61290323 | G8: 88 | H8: 66 | I8: 0.33333333
B9: EGP Cachoeira Dourada S.A. | C9: 1 | D9: 1 | E9: 0 | G9: 8 | H9: 8 | I9: 0
B10: EGP Volta Grande | C10: 1 | D10: 0 | E10: n.a. | G10: 1 | H10: 0 | I10: n.a.
B11: Enel Distribución Sao Paulo S.A. (Eletropaulo) (*) | C11: 460 | D11: 329 | E11: 0.39817629 | G11: 194 | H11: 188 | I11: 0.031914894
B12: Edesur S.A. | C12: 169 | D12: 106 | E12: 0.59433962 | G12: 150 | H12: 118 | I12: 0.27118644
B13: Enel Distribución Rio (Ampla) (*) | C13: 278 | D13: 189 | E13: 0.47089947 | G13: 95 | H13: 127 | I13: -0.2519685
B14: Enel Distribución Ceara (Coelce) (*) | C14: 305 | D14: 230 | E14: 0.32608696 | G14: 86 | H14: 97 | I14: -0.11340206
B15: Enel Colombia Segmento de Distribución | C15: 334 | D15: 0 | E15: n.a. | G15: 129 | H15: 103 | I15: 0.25242718
B16: Enel Generación Piura S.A. | C16: 4 | D16: 0 | E16: n.a. | G16: 7 | H16: 7 | I16: 0
B17: Enel X Brasil | C17: 3 | D17: 1 | E17: 2 | G17: 5 | H17: 5 | I17: 0
B18: Enel Green Power Brasil | C18: 48 | D18: 104 | E18: -0.53846154 | G18: 179 | H18: 159 | I18: 0.12578616
B19: Enel Green Power Centroamérica | C19: 9 | D19: 21 | E19: -0.57142857 | G19: 42 | H19: 38 | I19: 0.10526316
B21: Total | C21: 1828 | D21: 1539 | E21: 0.18778428 | G21: 984 | H21: 916 | I21: 0.074235808
B23: (*) Includes intangible assets by concessions

Sheet Debt Maturity
B3: Debt Maturity
B4: US$ mn | C4: 2026 | D4: 2027 | E4: 2028 | F4: 2029 | G4: 2030 | H4: Balance | I4: Total
B5: Chile | C5: 600.858 | D5: 0 | E5: 0 | F5: 0 | G5: 0 | H5: 0 | I5: 600.858
B6: Enel Americas | C6: 600.858 | D6: 0 | E6: 0 | F6: 0 | G6: 0 | H6: 0 | I6: 600.858
B7: Argentina | C7: 43.386068 | D7: 93.351223 | E7: 109.91219 | F7: 91.958998 | G7: 3.100557 | H7: 0.49 | I7: 342.2
B8: Edesur | C8: 43.386068 | D8: 93.351223 | E8: 109.91219 | F8: 91.958998 | G8: 3.100557 | H8: 0.49224967 | I8: 342.20128
B9: Enel Gx Costanera | C9: 0 | D9: 0 | E9: 0 | F9: 0 | G9: 0 | H9: 0 | I9: 0
B10: Enel Argentina | C10: 0 | D10: 0 | E10: 0 | F10: 0 | G10: 0 | H10: 0 | I10: 0
B11: Docksud | C11: 0 | D11: 0 | E11: 0 | F11: 0 | G11: 0 | H11: 0 | I11: 0
B12: Cemsa | C12: 0 | D12: 0 | E12: 0 | F12: 0 | G12: 0 | H12: 0 | I12: 0
B13: Enel Gx Chocon | C13: 0 | D13: 0 | E13: 0 | F13: 0 | G13: 0 | H13: 0 | I13: 0
B14: Hidroinvest | C14: 0 | D14: 0 | E14: 0 | F14: 0 | G14: 0 | H14: 0 | I14: 0
B15: Peru | C15: =SUM(C16) -> 0 | D15: =SUM(D16) -> 0 | E15: =SUM(E16) -> 0 | F15: =SUM(F16) -> 0 | G15: =SUM(G16) -> 0 | H15: =SUM(H16) -> 0 | I15: =SUM(C15:H15) -> 0
B16: Enel Peru | C16: 0 | D16: 0 | E16: 0 | F16: 0 | G16: 0 | H16: 0 | I16: =SUM(C16:H16) -> 0
B17: Brazil | C17: 499.23992 | D17: 1286.2053 | E17: 655.76634 | F17: 359.54685 | G17: 347.91838 | H17: 984.47 | I17: 4133.15
B18: Enel Brasil | C18: 13.797482 | D18: 57.111777 | E18: 58.757907 | F18: 65.230489 | G18: 62.976007 | H18: 399.82018 | I18: 657.69384
B19: Enel Dx Ceara | C19: 9.2122648 | D19: 261.20834 | E19: 114.8697 | F19: 100.79984 | G19: 139.61 | H19: 101.58412 | I19: 727.28426
B20: Enel Dx Rio | C20: 393.138 | D20: 427.51109 | E20: 143.94037 | F20: 1.9881556 | G20: 0.52408274 | H20: 0.40423179 | I20: 967.50593
B21: EGP Cachoeira | C21: 0.022569278 | D21: 0.098436652 | E21: 0.11228805 | F21: 0.073377674 | G21: 0.0074206158 | H21: 0.0029795438 | I21: 0.31707181
B22: Enel Cien | C22: 0 | D22: 0 | E22: 0 | F22: 0 | G22: 0 | H22: 0 | I22: 0
B23: Enel Gx Fortaleza | C23: 0 | D23: 0 | E23: 0 | F23: 0 | G23: 0 | H23: 0 | I23: 0
B24: Enel Dx Goias | C24: 0 | D24: 0 | E24: 0 | F24: 0 | G24: 0 | H24: 0 | I24: 0
B25: Tesa | C25: 0 | D25: 0 | E25: 0 | F25: 0 | G25: 0 | H25: 0 | I25: 0
B26: Ctm | C26: 0.037489538 | D26: 0.16393543 | E26: 0.18760807 | F26: 0.051451045 | G26: 0 | H26: 0 | I26: 0.44048409
B27: Enel Dx Sao Paulo | C27: 60.369157 | D27: 517.2591 | E27: 315.07599 | F27: 168.71955 | G27: 144.71661 | H27: 478.67744 | I27: 1684.8179
B28: Sao Francisco | C28: 0.0046063753 | D28: 0.020113483 | E28: 0.023023084 | F28: 0.026608562 | G28: 0.030760555 | H28: 3.6604253 | I28: 3.7655374
... B37: EGP Panama | C37: 1.4527741 | D37: 0.37217019 | E37: 0.37217019 | F37: 0.31993297 | G37: 0.31993297 | H37: 4.0113494 | I37: 6.8483298
B38: Peru | C38: =SUM(C39) -> 0.013338693 | D38: =SUM(D39) -> 62.608409 | E38: =SUM(E39) -> 0.023065788 | F38: =SUM(F39) -> 0 | G38: =SUM(G39) -> 0 | H38: =SUM(H39) -> 0 | I38: =SUM(C38:H38) -> 62.644813
B39: Enel Gx Piura | C39: 0.013338693 | D39: 62.608409 | E39: 0.023065788 | F39: 0 | G39: 0 | H39: 0 | I39: =SUM(C39:H39) -> 62.644813
B40: Total - Continuing operations | C40: =C5+C7+C15+C17+C32+C34+C38 -> 1251.2475 | D40: =D5+D7+D15+D17+D32+D34+D38 -> 1821.4945 | E40: =E5+E7+E15+E17+E32+E34+E38 -> 1159.209 | F40: =F5+F7+F15+F17+F32+F34+F38 -> 663.49132 | G40: =G5+G7+G15+G17+G32+G34+G38 -> 816.62816 | H40: =H5+H7+H15+H17+H32+H34+H38 -> 2165.19 | I40: =I5+I7+I15+I17+I32+I34+I38 -> 7877.2628

Sheet Dx physical data
B2: COMPANY | C2: Energy Sales (TWh) | G2: Grid customers (mn) | I2: Energy Losses (%) | K2: SAIDI (hours) | M2: SAIFI (times)
C3: Accumulated figures | E3: Quarterly figures
C4: September 2026 | D4: September 2025 | E4: Q4 2023 | F4: Q4 2022 | G4: September 2026 | H4: September 2025 | I4: September 2026 | J4: September 2025 | K4: September 2026 | L4: September 2025 | M4: September 2026 | N4: September 2025
B5: Edesur | C5: 13.540456 | D5: 13.458521 | E5: 4.6251539 | F5: 4.6839165 | G5: 2.751987 | H5: 2.755593 | I5: 0.194069 | J5: 0.1747 | K5: 14.814395 | L5: 17.706667 | M5: 8.5303345 | N5: 8.49
B6: Enel Dx Río | C6: 8.7797622 | D6: 8.7769385 | E6: 2.6605 | F6: 2.5863263 | G6: 3.160162 | H6: 3.147069 | I6: 0.20780825 | J6: 0.20675618 | K6: 8.014 | L6: 7.71 | M6: 4 | N6: 4.29
B7: Enel Dx Sao Paulo | C7: 33.764425 | D7: 33.443477 | E7: 3.6255772 | F7: 3.4332729 | G7: 8.800608 | H7: 8.646945 | I7: 0.11243482 | J7: 0.1080567 | K7: 6.64 | L7: 6.8811667 | M7: 4.34 | N7: 3.57
B8: Enel Dx Ceará | C8: 10.598031 | D8: 10.290801 | E8: 11.071907 | F8: 10.741554 | G8: 4.404627 | H8: 4.317884 | I8: 0.174707 | J8: 0.17897656 | K8: 8.236 | L8: 8.4015 | M8: 4 | N8: 4.48
B9: Enel Colombia - Distribution | C9: 11.90842 | D9: 11.530506 | E9: 4.0767174 | F9: 3.915219 | G9: 4.129353 | H9: 4.030461 | I9: 0.0762 | J9: 0.075340862 | K9: 7.2281667 | L9: 7.6555 | M9: 7.4 | N9: 7.65
B11: Total | C11: =SUM(C5:C9) -> 78.591094 | D11: =SUM(D5:D9) -> 77.500243 | E11: =SUM(E5:E9) -> 26.059856 | F11: =SUM(F5:F9) -> 25.360288 | G11: =SUM(G5:G9) -> 23.246737 | H11: =SUM(H5:H9) -> 22.897952 | I11: 0.14626492 | J11: 0.13535715 | K11: =(SUMPRODUCT(G5:G9,K5:K9)/SUM(G5:G9)) -> 8.2013556 | L11: =(SUMPRODUCT(H5:H9,L5:L9)/SUM(H5:H9)) -> 8.7208339 | M11: =(SUMPRODUCT(G5:G9,M5:M9)/SUM(G5:G9)) -> 5.2689707 | N11: =(SUMPRODUCT(H5:H9,N5:N9)/SUM(H5:H9)) -> 5.1507948
C13: 0
B16: Energy distributed (TWh) - Accumulated figures
B17: Type of client | C17: Argentina | E17: Brazil | K17: Colombia | M17: Total Continued operations
C18: Edesur | E18: Enel Dx Río | G18: Enel Dx Sao Paulo | I18: Enel Dx Ceará | K18: Enel Colombia - Distribution
C19: September 2026 | D19: September 2025 | E19: September 2026 | F19: September 2025 | G19: September 2026 | H19: September 2025 | I19: September 2026 | J19: September 2025 | K19: September 2026 | L19: September 2025 | M19: September 2026 | N19: September 2025
B20: Residential | C20: 5.5888998 | D20: 5.97849 | E20: 3.7367205 | F20: 3.7693387 | G20: 13.686703 | H20: 13.649172 | I20: 4.6072534 | J20: 4.4456968 | K20: 4.2542453 | L20: 4.0743085 | M20: =(C20+E20+G20+I20+K20) -> 31.873822 | N20: =(D20+F20+H20+J20+L20) -> 31.917006
B21: Commercial | C21: 2.2776276 | D21: 2.9168031 | E21: 0.75505141 | F21: 0.80990759 | G21: 5.4145323 | H21: 5.4723048 | I21: 0.76919845 | J21: 0.84095846 | K21: 1.8421599 | L21: 1.8251969 | M21: =(C21+E21+G21+I21+K21) -> 11.05857 | N21: =(D21+F21+H21+J21+L21) -> 11.865171
B22: Industrial | C22: 2.2622861 | D22: 0.90061877 | E22: 0.051756778 | F22: 0.06911998 | G22: 0.7431881 | H22: 0.86579294 | I22: 0.16716918 | J22: 0.18884087 | K22: 0.81768369 | L22: 0.80707704 | M22: =(C22+E22+G22+I22+K22) -> 4.0420838 | N22: =(D22+F22+H22+J22+L22) -> 2.8314496
B23: Others | C23: 3.4116424 | D23: 3.6626091 | E23: 4.2362335 | F23: 4.1285722 | G23: 13.920002 | H23: 13.456207 | I23: 5.0544098 | J23: 4.8153051 | K23: 4.9943313 | L23: 4.8239235 | M23: =(C23+E23+G23+I23+K23) -> 31.616619 | N23: =(D23+F23+H23+J23+L23) -> 30.886617
B24: Total | C24: 13.540456 | D24: 13.458521 | E24: 8.7797622 | F24: 8.7769385 | G24: 33.764425 | H24: 33.443477 | I24: 10.598031 | J24: 10.290801 | K24: 11.90842 | L24: 11.530506 | M24: =(C24+E24+G24+I24+K24) -> 78.591094 | N24: =(D24+F24+H24+J24+L24) -> 77.500243
B26: Residential | C26: =C20/C$24 -> 0.41275566 | D26: =D20/D$24 -> 0.44421597 | E26: =E20/E$24 -> 0.42560612 | F26: =F20/F$24 -> 0.4294594 | G26: =G20/G$24 -> 0.40535868 | H26: =H20/H$24 -> 0.4081266 | I26: =I20/I$24 -> 0.43472731 | J26: =J20/J$24 -> 0.43200687 | ... N26: =N20/N$24 -> 0.41183105
B27: Industrial | C27: =C21/C$24 -> 0.16820908 | D27: =D21/D$24 -> 0.21672538 | E27: =E21/E$24 -> 0.085999074 | F27: =F21/F$24 -> 0.092276776 | G27: =G21/G$24 -> 0.16036205 | H27: =H21/H$24 -> 0.16362846 | I27: =I21/I$24 -> 0.072579375 | J27: =J21/J$24 -> 0.081719434 | ... N27: =N21/N$24 -> 0.1530985
B28: Commercial | C28: =C22/C$24 -> 0.16707606 | D28: =D22/D$24 -> 0.066918108 | E28: =E22/E$24 -> 0.0058950091 | F28: =F22/F$24 -> 0.0078751811 | G28: =G22/G$24 -> 0.022010981 | H28: =H22/H$24 -> 0.025888246 | I28: =I22/I$24 -> 0.015773608 | J28: =J22/J$24 -> 0.018350453 | ... N28: =N22/N$24 -> 0.036534719
B29: Others | C29: =C23/C$24 -> 0.25195919 | D29: =D23/D$24 -> 0.27214054 | E29: =E23/E$24 -> 0.4824998 | F29: =F23/F$24 -> 0.47038865 | G29: =G23/G$24 -> 0.41226829 | H29: =H23/H$24 -> 0.40235669 | I29: =I23/I$24 -> 0.47691971 | J29: =J23/J$24 -> 0.46792325 | ... N29: =N23/N$24 -> 0.39853574
B30: Total | C30: =C24/C$24 -> 1 | D30: =D24/D$24 -> 1 | E30: =E24/E$24 -> 1 | F30: =F24/F$24 -> 1 | G30: =G24/G$24 -> 1 | H30: =H24/H$24 -> 1 | I30: =I24/I$24 -> 1 | J30: =J24/J$24 -> 1 | ... N30: =N24/N$24 -> 1
B32: Energy distributed (TWh) - Quarterly figures
B33: Type of client | C33: Argentina | E33: Brazil | K33: Colombia | M33: Total Continued operations
C34: Edesur | E34: Enel Dx Río | G34: Enel Dx Sao Paulo | I34: Enel Dx Ceará | K34: Enel Colombia - Distribution
C35: ='Reported EBITDA'!$F$5 -> Q3 2026 | D35: ='Reported EBITDA'!$G$5 -> Q3 2025 | E35: ='Reported EBITDA'!$F$5 -> Q3 2026 | F35: ='Reported EBITDA'!$G$5 -> Q3 2025 | G35: ='Reported EBITDA'!$F$5 -> Q3 2026 | H35: ='Reported EBITDA'!$G$5 -> Q3 2025 | I35: ='Reported EBITDA'!$F$5 -> Q3 2026 | J35: ='Reported EBITDA'!$G$5 -> Q3 2025 | K35: ='Reported EBITDA'!$F$5 -> Q3 2026 | L35: ='Reported EBITDA'!$G$5 -> Q3 2025 | M35: ='Reported EBITDA'!$F$5 -> Q3 2026 | N35: ='Reported EBITDA'!$G$5 -> Q3 2025
B36: Residential | C36: 1.9486442 | D36: 2.3815309 | E36: 1.0672764 | F36: 1.0336503 | G36: 4.5334932 | H36: 4.4835792 | I36: 1.5569708 | J36: 1.440015 | K36: 1.445 | L36: 1.3953632 | M36: =(C36+E36+G36+I36+K36) -> 10.551385 | N36: =(D36+F36+H36+J36+L36) -> 10.734139
B37: Commercial | C37: 0.74738943 | D37: 1.4236454 | E37: 0.2212011 | F37: 0.22177343 | G37: 1.7052824 | H37: 1.6770218 | I37: 0.25142874 | J37: 0.26383416 | K37: 0.622266 | L37: 0.62394807 | M37: =(C37+E37+G37+I37+K37) -> 3.5475677 | N37: =(D37+F37+H37+J37+L37) -> 4.2102229
B38: Industrial | C38: 0.7427665 | D38: -0.63002414 | E38: 0.017722327 | F38: 0.020896852 | G38: 0.24600424 | H38: 0.2693155 | I38: 0.056794312 | J38: 0.062701509 | K38: 0.287896 | L38: 0.27621591 | M38: =(C38+E38+G38+I38+K38) -> 1.3511834 | N38: =(D38+F38+H38+J38+L38) -> -0.00089437286
B39: Others | C39: 1.1863536 | D39: 1.5087644 | E39: 1.3543002 | F39: 1.3100057 | G39: 4.5871272 | H39: 4.3116372 | I39: 1.7603834 | J39: 1.6667222 | K39: 1.7215582 | L39: 1.6196887 | M39: =(C39+E39+G39+I39+K39) -> 10.609723 | N39: =(D39+F39+H39+J39+L39) -> 10.416818
B40: Total | C40: 4.6251538 | D40: 4.6839165 | E40: 2.6605 | F40: 2.5863263 | G40: 11.071907 | H40: 10.741554 | I40: 3.6255772 | J40: 3.4332729 | K40: 4.0767202 | L40: 3.9152159 | M40: =(C40+E40+G40+I40+K40) -> 26.059858 | N40: =(D40+F40+H40+J40+L40) -> 25.360285
B42: Residential | C42: =C36/C$40 -> 0.42131447 | D42: =D36/D$40 -> 0.50844862 | E42: =E36/E$40 -> 0.40115632 | F42: =F36/F$40 -> 0.39965966 | G42: =G36/G$40 -> 0.40945911 | H42: =H36/H$40 -> 0.41740509 | I42: =I36/I$40 -> 0.42944081 | J42: =J36/J$40 -> 0.41942923 | ... L42: =L36/L$40 -> 0.35639497 | M42: =M36/M$24 -> 0.13425675 | N42: =N36/N$24 -> 0.13850458
B43: Industrial | C43: =C37/C$40 -> 0.16159234 | D43: =D37/D$40 -> 0.30394337 | E43: =E37/E$40 -> 0.083142678 | F43: =F37/F$40 -> 0.085748437 | G43: =G37/G$40 -> 0.15401885 | H43: =H37/H$40 -> 0.1561247 | I43: =I37/I$40 -> 0.06934861 | J43: =J37/J$40 -> 0.076846255 | ... L43: =L37/L$40 -> 0.15936492 | M43: =M37/M$24 -> 0.045139563 | N43: =N37/N$24 -> 0.054325285
B44: Commercial | C44: =C38/C$40 -> 0.16059282 | D44: =D38/D$40 -> -0.13450798 | E44: =E38/E$40 -> 0.0066612769 | F44: =F38/F$40 -> 0.0080797433 | G44: =G38/G$40 -> 0.022218777 | H44: =H38/H$40 -> 0.025072304 | I44: =I38/I$40 -> 0.015664902 | J44: =J38/J$40 -> 0.018262897 | ... L44: =L38/L$40 -> 0.070549342 | M44: =M38/M$24 -> 0.017192576 | N44: =N38/N$24 -> -1.1540259e-05
B45: Others | C45: =C39/C$40 -> 0.25650037 | D45: =D39/D$40 -> 0.32211598 | E45: =E39/E$40 -> 0.50903973 | F45: =F39/F$40 -> 0.50651216 | G45: =G39/G$40 -> 0.41430326 | H45: =H39/H$40 -> 0.40139791 | I45: =I39/I$40 -> 0.48554568 | J45: =J39/J$40 -> 0.48546162 | ... L45: =L39/L$40 -> 0.41369077 | M45: =M39/M$24 -> 0.13499904 | N45: =N39/N$24 -> 0.13441013
B46: Total | C46: =C40/C$40 -> 1 | D46: =D40/D$40 -> 1 | E46: =E40/E$40 -> 1 | F46: =F40/F$40 -> 1 | G46: =G40/G$40 -> 1 | H46: =H40/H$40 -> 1 | I46: =I40/I$40 -> 1 | J46: =J40/J$40 -> 1 | ... L46: =L40/L$40 -> 1 | M46: =M40/M$24 -> 0.33158793 | N46: =N40/N$24 -> 0.32722846

Sheet Gx physical data
A3: Operational figures | B3: ARGENTINA | D3: BRAZIL | F3: COLOMBIA | H3: CENTRAL AMERICA | J3: ENEL GENERACIÓN PIURA | L3: Total
B4: September 2026 | C4: September 2025 | D4: September 2026 | E4: September 2025 | F4: September 2026 | G4: September 2025 | H4: September 2026 | I4: September 2025 | J4: September 2026 | K4: September 2025 | L4: =B4 -> September 2026 | M4: =C4 -> September 2025
A5: TWh
A6: Total generation | B6: 0 | C6: 1.8895 | D6: 15.170478 | E6: 15.792712 | F6: 13.724359 | G6: 12.68794 | H6: 1.9098291 | I6: 1.9662113 | J6: 0.29525 | K6: 0.20784 | L6: =B6+D6+F6+H6+J6 -> 31.099916 | M6: =C6+E6+G6+I6+K6 -> 32.544203
